BEGIN:VCALENDAR
VERSION:2.0
PRODID:-//Brazos Valley Groundwater Conservation District - ECPv6.15.20//NONSGML v1.0//EN
CALSCALE:GREGORIAN
METHOD:PUBLISH
X-WR-CALNAME:Brazos Valley Groundwater Conservation District
X-ORIGINAL-URL:https://brazosvalleygcd.org
X-WR-CALDESC:Events for Brazos Valley Groundwater Conservation District
REFRESH-INTERVAL;VALUE=DURATION:PT1H
X-Robots-Tag:noindex
X-PUBLISHED-TTL:PT1H
BEGIN:VTIMEZONE
TZID:America/Chicago
BEGIN:DAYLIGHT
TZOFFSETFROM:-0600
TZOFFSETTO:-0500
TZNAME:CDT
DTSTART:20190310T080000
END:DAYLIGHT
BEGIN:STANDARD
TZOFFSETFROM:-0500
TZOFFSETTO:-0600
TZNAME:CST
DTSTART:20191103T070000
END:STANDARD
BEGIN:DAYLIGHT
TZOFFSETFROM:-0600
TZOFFSETTO:-0500
TZNAME:CDT
DTSTART:20200308T080000
END:DAYLIGHT
BEGIN:STANDARD
TZOFFSETFROM:-0500
TZOFFSETTO:-0600
TZNAME:CST
DTSTART:20201101T070000
END:STANDARD
BEGIN:DAYLIGHT
TZOFFSETFROM:-0600
TZOFFSETTO:-0500
TZNAME:CDT
DTSTART:20210314T080000
END:DAYLIGHT
BEGIN:STANDARD
TZOFFSETFROM:-0500
TZOFFSETTO:-0600
TZNAME:CST
DTSTART:20211107T070000
END:STANDARD
BEGIN:DAYLIGHT
TZOFFSETFROM:-0600
TZOFFSETTO:-0500
TZNAME:CDT
DTSTART:20220313T080000
END:DAYLIGHT
BEGIN:STANDARD
TZOFFSETFROM:-0500
TZOFFSETTO:-0600
TZNAME:CST
DTSTART:20221106T070000
END:STANDARD
END:VTIMEZONE
BEGIN:VEVENT
DTSTART;TZID=America/Chicago:20210723T100000
DTEND;TZID=America/Chicago:20210723T120000
DTSTAMP:20260422T034658
CREATED:20210714T103155Z
LAST-MODIFIED:20210721T182513Z
UID:12813-1627034400-1627041600@brazosvalleygcd.org
SUMMARY:Rules Committee Meeting | July 23\, 2021 | 10:00 a.m. | District Office | Hearne\, Texas
DESCRIPTION:Notice/Agenda for Rules Committee Meeting \nRule amendment for possible consideration (Rule 2.2)
URL:https://brazosvalleygcd.org/event/rules-committee-meeting-july-23-2021-1000-a-m-district-office-hearne-texas/
LOCATION:District Office\, 112 W. 3rd Street\, Hearne\, TX\, 77859\, United States
ORGANIZER;CN="Brazos Valley Groundwater Conservation District":MAILTO:clopez@brazosvalleygcd.org
END:VEVENT
BEGIN:VEVENT
DTSTART;TZID=America/Chicago:20210708T140000
DTEND;TZID=America/Chicago:20210708T160000
DTSTAMP:20260422T034658
CREATED:20210612T141257Z
LAST-MODIFIED:20210701T212701Z
UID:12676-1625752800-1625760000@brazosvalleygcd.org
SUMMARY:Regular Board Meeting | July 8\, 2021 | 2:00 p.m. | District Office - Hearne\, Texas
DESCRIPTION:Agenda/Notice for Regular Board Meeting \nBackground material for Regular Board Meeting \nJoin the meeting – Permit Hearing & Regular Board Meeting (videoconference) \nJoin the meeting – Permit Hearing & Regular Board Meeting (telephonic)
URL:https://brazosvalleygcd.org/event/regular-board-meeting-july-8-2021-200-p-m-district-office-hearne-texas/
LOCATION:District Office\, 112 W. 3rd Street\, Hearne\, TX\, 77859\, United States
ORGANIZER;CN="Brazos Valley Groundwater Conservation District":MAILTO:clopez@brazosvalleygcd.org
END:VEVENT
BEGIN:VEVENT
DTSTART;TZID=America/Chicago:20210708T140000
DTEND;TZID=America/Chicago:20210708T160000
DTSTAMP:20260422T034658
CREATED:20210612T141124Z
LAST-MODIFIED:20210625T115752Z
UID:12674-1625752800-1625760000@brazosvalleygcd.org
SUMMARY:Public Permit Hearing | July 8\, 2021 | 2:00 p.m. | District Office - Hearne\, Texas
DESCRIPTION:The Permit Hearing will be held in the District Office in Hearne\, Texas. If you want to join the meeting remotely\, below are the links enabling you to join. \nNotice/agenda for Public Permit Hearing \nOperating Permit Information | Vince Mancuso \nOperating Permit Information | Midwest Poultry Services\, LP \nJoin the meeting – Permit Hearing & Regular Board Meeting (videoconference) \nJoin the meeting – Permit Hearing & Regular Board Meeting (telephonic)
URL:https://brazosvalleygcd.org/event/public-permit-hearing-july-8-2021-200-p-m-district-office-hearne-texas/
LOCATION:District Office\, 112 W. 3rd Street\, Hearne\, TX\, 77859\, United States
ORGANIZER;CN="Brazos Valley Groundwater Conservation District":MAILTO:clopez@brazosvalleygcd.org
END:VEVENT
BEGIN:VEVENT
DTSTART;TZID=America/Chicago:20210624T100000
DTEND;TZID=America/Chicago:20210624T130000
DTSTAMP:20260422T034658
CREATED:20210426T103156Z
LAST-MODIFIED:20210612T134712Z
UID:12482-1624528800-1624539600@brazosvalleygcd.org
SUMMARY:GMA 12 DFC Planning  Meeting | June 24\, 2021 | 10:00 a.m. | POSGCD Office - Milano\, Texas
DESCRIPTION:Posted notice/agenda for GMA 12 DFC Joint Planning Meeting
URL:https://brazosvalleygcd.org/event/gma-12-dfc-planning-meeting-june-24-2021/
LOCATION:Virtual GMA 12 Planning Meeting
ORGANIZER;CN="Brazos Valley Groundwater Conservation District":MAILTO:clopez@brazosvalleygcd.org
END:VEVENT
BEGIN:VEVENT
DTSTART;TZID=America/Chicago:20210610T140000
DTEND;TZID=America/Chicago:20210610T163000
DTSTAMP:20260422T034658
CREATED:20210527T130248Z
LAST-MODIFIED:20210603T104514Z
UID:12606-1623333600-1623342600@brazosvalleygcd.org
SUMMARY:Public Permit Hearing | June 10\, 2021 | 2:00 p.m. | Virtual
DESCRIPTION:The Permit Hearing will commence immediately following the conclusion of the Public Hearing for Comments on Proposed 2021 Desired Future Conditions for all aquifers. \nNotice/agenda for Public Permit Hearing \nPermit Correction Information | Michael & Carolyn Lampe \nDrilling/Operating Permit Information | Midwest Poultry Services\, LP\n \nJoin the Zoom meeting – Permit Hearing (videoconference) \nJoin the Zoom meeting – Permit Hearing (telephonic)
URL:https://brazosvalleygcd.org/event/public-permit-hearing-june-10-2021-200-p-m-virtual/
LOCATION:Zoom Virtual Permit Hearing
ORGANIZER;CN="Brazos Valley Groundwater Conservation District":MAILTO:clopez@brazosvalleygcd.org
END:VEVENT
BEGIN:VEVENT
DTSTART;TZID=America/Chicago:20210610T140000
DTEND;TZID=America/Chicago:20210610T163000
DTSTAMP:20260422T034658
CREATED:20210506T102929Z
LAST-MODIFIED:20210517T115906Z
UID:12508-1623333600-1623342600@brazosvalleygcd.org
SUMMARY:Public Hearing for Comments | Proposed Desired Future Conditions of All Aquifers | June 10\, 2021 | 2:00 p.m. | Virtual
DESCRIPTION:Posted Legal Notice of Public Hearing for Comments | Proposed Desired Future Conditions \nProposed 2021 DFCs for All BVGCD Aquifers \nApproved Minutes – GMA 12 Meeting – March 18\, 2021 \nSupport Material for Proposed 2021 DFCs | All Aquifers 
URL:https://brazosvalleygcd.org/event/public-hearing-for-comments-proposed-desired-future-conditions-of-all-aquifers-june-10-2021-200-p-m-virtual/
LOCATION:Zoom Virtual Public Hearing for Comments | Proposed Desired Future Conditions
ORGANIZER;CN="Brazos Valley Groundwater Conservation District":MAILTO:clopez@brazosvalleygcd.org
END:VEVENT
BEGIN:VEVENT
DTSTART;TZID=America/Chicago:20210610T140000
DTEND;TZID=America/Chicago:20210610T163000
DTSTAMP:20260422T034658
CREATED:20210506T101510Z
LAST-MODIFIED:20210603T104213Z
UID:12506-1623333600-1623342600@brazosvalleygcd.org
SUMMARY:Regular Board Meeting | June 10\, 2021 | 2:00 p.m. | Virtual
DESCRIPTION:The Regular Board Meeting will begin at the conclusion of the Public Permit Hearing. \nAgenda/Notice for Regular Board Meeting \nBackground material for Regular Board Meeting \nJoin the Zoom meeting – Regular Board Meeting (videoconference) \nJoin the Zoom meeting – Regular Board Meeting (telephonic)
URL:https://brazosvalleygcd.org/event/regular-board-meeting-june-10-2021-200-p-m-virtual/
LOCATION:Zoom Virtual Board Meeting
END:VEVENT
BEGIN:VEVENT
DTSTART;TZID=America/Chicago:20210513T140000
DTEND;TZID=America/Chicago:20210513T160000
DTSTAMP:20260422T034658
CREATED:20210504T213558Z
LAST-MODIFIED:20210510T170541Z
UID:12503-1620914400-1620921600@brazosvalleygcd.org
SUMMARY:Regular Board Meeting | May 13\, 2021 | 2:00 p.m | Virtual
DESCRIPTION:Agenda/Notice of Regular Board Meeting \nBackground material for Regular Board Meeting \nJoin Zoom meeting – Regular Board Meeting – May 13\, 2021 (videoconference) \nJoin Zoom meeting- Regular Board Meeting – May 13\, 2021 (telephone)
URL:https://brazosvalleygcd.org/event/regular-board-meeting-may-13-2021-200-p-m-virtual/
LOCATION:Zoom Virtual Board Meeting
ORGANIZER;CN="Brazos Valley Groundwater Conservation District":MAILTO:clopez@brazosvalleygcd.org
END:VEVENT
BEGIN:VEVENT
DTSTART;TZID=America/Chicago:20210420T100000
DTEND;TZID=America/Chicago:20210420T120000
DTSTAMP:20260422T034658
CREATED:20210402T120416Z
LAST-MODIFIED:20210409T143955Z
UID:12383-1618912800-1618920000@brazosvalleygcd.org
SUMMARY:GMA 12 DFC Planning Meeting | April 20\, 2021 | Virtual
DESCRIPTION:GMA 12 DFC Planning Meeting | April 20\, 2021 | 10:00 a.m. | Virtual \nAgenda/Notice of GMA 12 DFC Planning Meeting \nJoin the GMA 12 GoToMeeting (videoconference) \nJoin the GMA 12 GoToMeeting (phone) \nBackground material for GMA 12 DFC Planning Meeting
URL:https://brazosvalleygcd.org/event/gma-12-dfc-planning-meeting-april-20-2021-virtual/
LOCATION:Virtual GMA 12 Planning Meeting
ORGANIZER;CN="Brazos Valley Groundwater Conservation District":MAILTO:clopez@brazosvalleygcd.org
END:VEVENT
BEGIN:VEVENT
DTSTART;TZID=America/Chicago:20210408T140000
DTEND;TZID=America/Chicago:20210408T160000
DTSTAMP:20260422T034658
CREATED:20210312T130323Z
LAST-MODIFIED:20210402T120155Z
UID:12310-1617890400-1617897600@brazosvalleygcd.org
SUMMARY:Regular Board Meeting | April 8\, 2021
DESCRIPTION:Agenda/Notice of Regular Board Meeting \nBackground material for Regular Board Meeting \nJoin the Zoom meeting – Regular Board Meeting (videoconference) \nJoin the Zoom meeting – Regular Board Meeting (telephonic) \nTo download the Zoom application for instructions to join the meeting using a computer or tablet or when using a cell phone\, click the appropriate hyperlink. You may also raise your hand to be recognized during the public comment portion of the meeting.
URL:https://brazosvalleygcd.org/event/regular-board-meeting-april-8-2021/
LOCATION:Zoom Virtual Board Meeting
ORGANIZER;CN="Brazos Valley Groundwater Conservation District":MAILTO:clopez@brazosvalleygcd.org
END:VEVENT
BEGIN:VEVENT
DTSTART;TZID=America/Chicago:20210318T100000
DTEND;TZID=America/Chicago:20210318T130000
DTSTAMP:20260422T034658
CREATED:20210303T182354Z
LAST-MODIFIED:20210303T182354Z
UID:12281-1616061600-1616072400@brazosvalleygcd.org
SUMMARY:GMA 12 DFC Planning Meeting |  Thursday\, March 18\, 2021
DESCRIPTION:Agenda/Notice – GMA 12 DFC Planning Meeting \nBackground information – GMA 12 DFC Planning Meeting \nJoin the GoToMeeting GMA 12 DFC Planning Meeting (videoconference) \nJoin the GoToMeeting GMA 12 DFC Planning Meeting (phone)
URL:https://brazosvalleygcd.org/event/gma-12-dfc-planning-meeting-thursday-march-18-2021/
LOCATION:Virtual GMA 12 Planning Meeting
ORGANIZER;CN="Brazos Valley Groundwater Conservation District":MAILTO:clopez@brazosvalleygcd.org
END:VEVENT
BEGIN:VEVENT
DTSTART;TZID=America/Chicago:20210311T140000
DTEND;TZID=America/Chicago:20210311T160000
DTSTAMP:20260422T034658
CREATED:20210304T142819Z
LAST-MODIFIED:20210304T143411Z
UID:12292-1615471200-1615478400@brazosvalleygcd.org
SUMMARY:Regular Board Meeting | March 11\, 2021
DESCRIPTION:Agenda/Notice of Regular Board Meeting \nBackground material for Regular Board Meeting \nJoin the Zoom meeting – Regular Board Meeting (Videoconference) \nJoin the Zoom meeting – Regular Board Meeting (Phone) \n“Raise Your Hand” to make public comment \nDownload the Zoom application for instructions to join the meeting using a computer or tablet
URL:https://brazosvalleygcd.org/event/regular-board-meeting-march-11-2021/
LOCATION:Zoom Virtual Board Meeting
ORGANIZER;CN="Brazos Valley Groundwater Conservation District":MAILTO:clopez@brazosvalleygcd.org
END:VEVENT
BEGIN:VEVENT
DTSTART;TZID=America/Chicago:20210212T100000
DTEND;TZID=America/Chicago:20210212T130000
DTSTAMP:20260422T034658
CREATED:20210117T160144Z
LAST-MODIFIED:20210129T012148Z
UID:12079-1613124000-1613134800@brazosvalleygcd.org
SUMMARY:GMA 12 DFC Planning Meeting | February 12\, 2021 | 10:00 a.m. | Virtual
DESCRIPTION:Agenda/Notice – GMA 12 DFC Planning Meeting \nBackground information – GMA 12 DFC Planning Meeting \nJoin the GoToMeeting GMA 12 DFC Planning Meeting (videoconference) \nJoin the GoToMeeting GMA 12 DFC Planning Meeting (phone)
URL:https://brazosvalleygcd.org/event/gma-12-dfc-planning-meeting-february-12-2021-1000-a-m-virtual/
LOCATION:Virtual GMA 12 Planning Meeting
ORGANIZER;CN="Brazos Valley Groundwater Conservation District":MAILTO:clopez@brazosvalleygcd.org
END:VEVENT
BEGIN:VEVENT
DTSTART;TZID=America/Chicago:20210211T141000
DTEND;TZID=America/Chicago:20210211T163000
DTSTAMP:20260422T034658
CREATED:20210117T140856Z
LAST-MODIFIED:20210205T220158Z
UID:12046-1613052600-1613061000@brazosvalleygcd.org
SUMMARY:Regular Board Meeting | February 11\, 2021
DESCRIPTION:Agenda/Notice for Regular Board Meeting \nBackground material for Regular Board Meeting \nJoin the Zoom Regular Board Meeting (Video) – February 11\, 2021 \nJoin the Zoom Regular Board Meeting (Phone) – February 11\, 2021 \n“Raise Your Hand” to make public comment \nDownload the Zoom application for instructions to join the meeting using a computer or tablet
URL:https://brazosvalleygcd.org/event/regular-board-meeting-february-11-2021/
LOCATION:Zoom Virtual Board Meeting
ORGANIZER;CN="Brazos Valley Groundwater Conservation District":MAILTO:clopez@brazosvalleygcd.org
END:VEVENT
BEGIN:VEVENT
DTSTART;TZID=America/Chicago:20210211T140000
DTEND;TZID=America/Chicago:20210211T141000
DTSTAMP:20260422T034658
CREATED:20210117T135747Z
LAST-MODIFIED:20210125T123754Z
UID:12041-1613052000-1613052600@brazosvalleygcd.org
SUMMARY:Public Permit Hearing | Feburary 11\, 2021
DESCRIPTION:Agenda/Notice for Public Permit Hearing \nCarpenter permit amendment background information (BVDO-0277) \nJoin the Zoom Public Permit Hearing (Video) – February 11\, 2021 \nJoin the Zoom Public Permit Hearing (Phone) – Feburary 11\, 2021 \n“Raise Your Hand” to make public comment \nDownload the Zoom application for instructions to join the meeting using a computer or tablet
URL:https://brazosvalleygcd.org/event/public-permit-hearing-feburary-11-2021/
LOCATION:Zoom Virtual Permit Hearing
ORGANIZER;CN="Brazos Valley Groundwater Conservation District":MAILTO:clopez@brazosvalleygcd.org
END:VEVENT
BEGIN:VEVENT
DTSTART;TZID=America/Chicago:20210115T100000
DTEND;TZID=America/Chicago:20210115T123000
DTSTAMP:20260422T034658
CREATED:20201228T122316Z
LAST-MODIFIED:20201231T220121Z
UID:11974-1610704800-1610713800@brazosvalleygcd.org
SUMMARY:GMA 12 DFC Planning Meeting | January 15\, 2021 | Virtual
DESCRIPTION:Agenda/Notice – GMA 12 DFC Planning Meeting \nBackground information – GMA 12 DFC Planning Meeting \nJoin the GoToMeeting GMA 12 DFC Planning Meeting (videoconference) \nJoin the GoToMeeting GMA 12 DFC Planning Meeting (phone)
URL:https://brazosvalleygcd.org/event/gma-12-dfc-planning-meeting-january-15-2021-virtual/
LOCATION:Virtual GMA 12 Planning Meeting
ORGANIZER;CN="Brazos Valley Groundwater Conservation District":MAILTO:clopez@brazosvalleygcd.org
END:VEVENT
BEGIN:VEVENT
DTSTART;TZID=America/Chicago:20210114T141000
DTEND;TZID=America/Chicago:20210114T153000
DTSTAMP:20260422T034658
CREATED:20201207T133924Z
LAST-MODIFIED:20210107T143623Z
UID:11920-1610633400-1610638200@brazosvalleygcd.org
SUMMARY:Regular Board Meeting | January 14\, 2021 | 2:00 p.m. | Virtual
DESCRIPTION:Agenda/Notice for Regular Board Meeting \nBackground material for Regular Board Meeting \nJoin the Zoom Permit Hearing & Regular Board Meeting (Video) – January 14\, 2021 \nJoin the Zoom Permit Hearing & Regular Board Meeting (Phone) – January\, 14\, 2021 \n“Raise Your Hand” to make public comment \nDownload the Zoom application for instructions to join the meeting using a computer or tablet
URL:https://brazosvalleygcd.org/event/regular-board-meeting-january-14-2021/
LOCATION:Zoom Virtual Board Meeting
ORGANIZER;CN="Brazos Valley Groundwater Conservation District":MAILTO:clopez@brazosvalleygcd.org
END:VEVENT
BEGIN:VEVENT
DTSTART;TZID=America/Chicago:20210114T140000
DTEND;TZID=America/Chicago:20210114T141000
DTSTAMP:20260422T034658
CREATED:20201207T134154Z
LAST-MODIFIED:20201228T121658Z
UID:11922-1610632800-1610633400@brazosvalleygcd.org
SUMMARY:Public Permit Hearing | January 14\, 2021 | 2:00 p.m. | Virtual
DESCRIPTION:Agenda/Notice for Public Permit Hearing \nRobertson County WSC permit correction background information \nJoin the Zoom Permit Hearing & Regular Board Meeting (Video) – January 14\, 2021 \nJoin the Zoom Permit Hearing & Regular Board Meeting (Phone) – January\, 14\, 2021 \n“Raise Your Hand” to make public comment \nDownload the Zoom application for instructions to join the meeting using a computer or tablet
URL:https://brazosvalleygcd.org/event/public-permit-hearing-january-14-2021/
LOCATION:Zoom Virtual Permit Hearing
ORGANIZER;CN="Brazos Valley Groundwater Conservation District":MAILTO:clopez@brazosvalleygcd.org
END:VEVENT
BEGIN:VEVENT
DTSTART;TZID=America/Chicago:20201210T100000
DTEND;TZID=America/Chicago:20201210T130000
DTSTAMP:20260422T034658
CREATED:20201117T112834Z
LAST-MODIFIED:20201117T220819Z
UID:11875-1607594400-1607605200@brazosvalleygcd.org
SUMMARY:GMA 12 DFC Planning Meeting | December 10\, 2020
DESCRIPTION:Agenda/Notice for GMA 12 DFC Planning Meeting \nBackground material for GMA 12 DFC Planning Meeting \nJoin the GoToMeeting GMA 12 DFC Planning Meeting (Video) – December 10\, 2020 \nJoin the GoToMeeting GMA 12 DFC Planning Meeting (Phone) – December 10\, 2020
URL:https://brazosvalleygcd.org/event/gma-12-dfc-planning-meeting-december-10-2020/
LOCATION:Virtual GMA 12 Planning Meeting
ORGANIZER;CN="Brazos Valley Groundwater Conservation District":MAILTO:clopez@brazosvalleygcd.org
END:VEVENT
BEGIN:VEVENT
DTSTART;TZID=America/Chicago:20201120T140000
DTEND;TZID=America/Chicago:20201120T153000
DTSTAMP:20260422T034658
CREATED:20201010T104202Z
LAST-MODIFIED:20201113T131830Z
UID:11776-1605880800-1605886200@brazosvalleygcd.org
SUMMARY:Regular Board Meeting | November 20\, 2020 | 2:00 p.m. | Virtual
DESCRIPTION:Agenda/Notice for Regular Board Meeting \nBackground Material for Regular Board Meeting \nJoin the Zoom Regular Board Meeting (Video) – November 20\, 2020 \nJoin the Zoom Regular Board Meeting (Phone) – November 20\, 2020 \n“Raise Your Hand” to make public comment \nDownload the Zoom application for instructions to join the meeting using a computer or tablet
URL:https://brazosvalleygcd.org/event/regular-board-meeting-november-12-2020-virtual/
LOCATION:Zoom Virtual Board Meeting
ORGANIZER;CN="Brazos Valley Groundwater Conservation District":MAILTO:clopez@brazosvalleygcd.org
END:VEVENT
BEGIN:VEVENT
DTSTART;TZID=America/Chicago:20201022T100000
DTEND;TZID=America/Chicago:20201022T120000
DTSTAMP:20260422T034658
CREATED:20200921T232104Z
LAST-MODIFIED:20201005T215614Z
UID:11695-1603360800-1603368000@brazosvalleygcd.org
SUMMARY:GMA 12 DFC Planning Meeting | October 22\, 2020
DESCRIPTION:Agenda/Notice for GMA 12 DFC Planning Meeting \nVirtual Access to GMA 12 DFC Planning Meeting \nPhone access to GMA 12 DFC Planning Meeting \nTo download the Zoom application for instructions to join the meeting using a computer or tablet or when using a cell phone\, click the appropriate hyperlink. You may also raise your hand to be recognized during the public comment portion of the meeting.
URL:https://brazosvalleygcd.org/event/gma-12-dfc-planning-meeting-october-22-2020/
LOCATION:Virtual GMA 12 Planning Meeting
ORGANIZER;CN="Brazos Valley Groundwater Conservation District":MAILTO:clopez@brazosvalleygcd.org
END:VEVENT
BEGIN:VEVENT
DTSTART;TZID=America/Chicago:20201008T140000
DTEND;TZID=America/Chicago:20201008T153000
DTSTAMP:20260422T034658
CREATED:20201001T113727Z
LAST-MODIFIED:20201001T132039Z
UID:11727-1602165600-1602171000@brazosvalleygcd.org
SUMMARY:Regular Board Meeting | October 8\, 2020 | Virtual
DESCRIPTION:Agenda/Notice for Regular Board Meeting \nBackground material for Regular Board meeting \nJoin the Zoom Regular Board Meeting (Video) – October 8\, 2020 \nJoin the Zoom Regular Board Meeting (Phone) – October 8\, 2020 \nTo download the Zoom application for instructions to join the meeting using a computer or tablet or when using a cell phone\, click the appropriate hyperlink. You may also raise your hand to be recognized during the public comment portion of the meeting.
URL:https://brazosvalleygcd.org/event/regular-board-meeting-october-8-2020-virtual/
LOCATION:Zoom Virtual Board Meeting
ORGANIZER;CN="Brazos Valley Groundwater Conservation District":MAILTO:clopez@brazosvalleygcd.org
END:VEVENT
BEGIN:VEVENT
DTSTART;TZID=America/Chicago:20201005T103000
DTEND;TZID=America/Chicago:20201005T120000
DTSTAMP:20260422T034658
CREATED:20200916T233801Z
LAST-MODIFIED:20201003T105250Z
UID:11678-1601893800-1601899200@brazosvalleygcd.org
SUMMARY:Budget-Finance Committee Meeting | October 5\, 2020 | Virtual
DESCRIPTION:Agenda/Notice for Budget/Finance Committee Meeting \nPowerPoint Presentation (Background Information) \nVirtual Access to Budget/Finance Committee Meeting \nPhone Access to Budget/Finance Committee Meeting
URL:https://brazosvalleygcd.org/event/budget-finance-committee-meeting-october-5-2020-virtual/
LOCATION:Zoom Virtual Committee Meeting
ORGANIZER;CN="Brazos Valley Groundwater Conservation District":MAILTO:clopez@brazosvalleygcd.org
END:VEVENT
BEGIN:VEVENT
DTSTART;TZID=America/Chicago:20200918T100000
DTEND;TZID=America/Chicago:20200918T120000
DTSTAMP:20260422T034658
CREATED:20200806T180521Z
LAST-MODIFIED:20200902T220917Z
UID:11377-1600423200-1600430400@brazosvalleygcd.org
SUMMARY:GMA 12 DFC Planning Meeting | September 18\, 2020 | Virtual
DESCRIPTION:Agenda/Notice for GMA 12 DFC Planning Meeting \nVirtual link to GMA 12 DFC Planning Meeting \nPhone access to GMA 12 DFC Planning Meeting
URL:https://brazosvalleygcd.org/event/gma-12-dfc-planning-meeting-september-11-2020-virtual/
LOCATION:Virtual GMA 12 Planning Meeting
ORGANIZER;CN="Brazos Valley Groundwater Conservation District":MAILTO:clopez@brazosvalleygcd.org
END:VEVENT
BEGIN:VEVENT
DTSTART;TZID=America/Chicago:20200910T141500
DTEND;TZID=America/Chicago:20200910T160000
DTSTAMP:20260422T034658
CREATED:20200815T113918Z
LAST-MODIFIED:20200904T163555Z
UID:11453-1599747300-1599753600@brazosvalleygcd.org
SUMMARY:Regular Board Meeting | September 10\, 2020 | Virtual
DESCRIPTION:Agenda/Notice for Regular Board Meeting \nBackground material for Regular Board meeting \nJoin the Zoom Regular Board Meeting (Video) – September 10\, 2020 \nJoin the Zoom Regular Board Meeting (Phone) – September 10\, 2020 \n“Raise Your Hand” to make public comment \nDownload the Zoom application for instructions to join the meeting using a computer or tablet
URL:https://brazosvalleygcd.org/event/regular-board-meeting-september-10-2020-virtual/
LOCATION:Zoom Virtual Board Meeting
ORGANIZER;CN="Brazos Valley Groundwater Conservation District":MAILTO:clopez@brazosvalleygcd.org
END:VEVENT
BEGIN:VEVENT
DTSTART;TZID=America/Chicago:20200910T141000
DTEND;TZID=America/Chicago:20200910T141500
DTSTAMP:20260422T034658
CREATED:20200815T113805Z
LAST-MODIFIED:20200828T192258Z
UID:11537-1599747000-1599747300@brazosvalleygcd.org
SUMMARY:Public Permit Hearing | September 10\, 2020 | Virtual
DESCRIPTION:Agenda/Notice for Public Permit Hearing \nStratta Permit Background material – BVDO-0276 \nJoin the Zoom Public Permit Hearing (Video) – September 10\, 2020 \nJoin the Zoom Public Permit Hearing (Phone) – September 10\, 2020 \n“Raise Your Hand” to make public comment \nDownload the Zoom application for instructions to join the meeting using a computer or tablet
URL:https://brazosvalleygcd.org/event/public-permit-hearing-september-10-2020-virtual/
LOCATION:Zoom Virtual Permit Hearing
ORGANIZER;CN="Brazos Valley Groundwater Conservation District":MAILTO:clopez@brazosvalleygcd.org
END:VEVENT
BEGIN:VEVENT
DTSTART;TZID=America/Chicago:20200910T140000
DTEND;TZID=America/Chicago:20200910T143000
DTSTAMP:20260422T034658
CREATED:20200815T113718Z
LAST-MODIFIED:20200826T165956Z
UID:11450-1599746400-1599748200@brazosvalleygcd.org
SUMMARY:Public Rules Hearing | September 10\, 2020 | Virtual
DESCRIPTION:Legal Notice/Agenda for Public Rules Hearing \nProposed Rule Corrections & Clarifications \nJoin the Zoom Public Rules Hearing (Video) – September 10\, 2020 \nJoin the Zoom Public Rules Hearing (Phone) – September 10\, 2020 \n“Raise Your Hand” to make public comment \nDownload the Zoom application for instructions to join the meeting using a computer or tablet
URL:https://brazosvalleygcd.org/event/public-rules-hearing-september-10-2020-virtual/
LOCATION:Zoom Virtual Public Rules Hearing\, United States
ORGANIZER;CN="Brazos Valley Groundwater Conservation District":MAILTO:clopez@brazosvalleygcd.org
END:VEVENT
BEGIN:VEVENT
DTSTART;TZID=America/Chicago:20200820T150000
DTEND;TZID=America/Chicago:20200820T163000
DTSTAMP:20260422T034658
CREATED:20200809T134424Z
LAST-MODIFIED:20200819T190335Z
UID:11401-1597935600-1597941000@brazosvalleygcd.org
SUMMARY:Personnel Committee Meeting | August 20\, 2020 | Virtual
DESCRIPTION:Agenda/Notice for Personnel Committee Meeting \nBackground material for committee meeting \nJoin the Zoom Personnel Committee Meeting (Video) August 20\, 2020 \nJoin the Zoom Personnel Committee Meeting (Phone) – August 20\, 2020 \n“Raise Your Hand” to make public comment \nDownload the Zoom application for instructions to join the meeting using a computer or tablet
URL:https://brazosvalleygcd.org/event/personnel-committee-meeting-august-20-2020-virtual/
LOCATION:Zoom Virtual Committee Meeting
ORGANIZER;CN="Brazos Valley Groundwater Conservation District":MAILTO:clopez@brazosvalleygcd.org
END:VEVENT
BEGIN:VEVENT
DTSTART;TZID=America/Chicago:20200819T103000
DTEND;TZID=America/Chicago:20200819T113000
DTSTAMP:20260422T034658
CREATED:20200809T134159Z
LAST-MODIFIED:20200819T190533Z
UID:11399-1597833000-1597836600@brazosvalleygcd.org
SUMMARY:Grant Committee Meeting | August 19\, 2020 | Virtual
DESCRIPTION:Agenda/Notice for Grant Committee Meeting \nBackground material for committee meeting \nJoin the Zoom Grant Committee Meeting (Video) – August 19\, 2020 \nJoin the Zoom Grant Committee Meeting (Phone) – August 19\, 2020 \n“Raise Your Hand” to make public comment \nDownload the Zoom application for instructions to join the meeting using a computer or tablet
URL:https://brazosvalleygcd.org/event/grant-committee-meeting-august-19-2020-virtual/
LOCATION:Zoom Virtual Committee Meeting
ORGANIZER;CN="Brazos Valley Groundwater Conservation District":MAILTO:clopez@brazosvalleygcd.org
END:VEVENT
BEGIN:VEVENT
DTSTART;TZID=America/Chicago:20200819T090000
DTEND;TZID=America/Chicago:20200819T100000
DTSTAMP:20260422T034658
CREATED:20200809T133930Z
LAST-MODIFIED:20200809T150409Z
UID:11397-1597827600-1597831200@brazosvalleygcd.org
SUMMARY:Education/Conservation Committee Meeting | August 19\, 2020 | Virtual
DESCRIPTION:Agenda/Notice for Education/Conservation Committee Meeting \nBackground material for committee meeting \nJoin the Zoom Education/Conservation Meeting (Video) – August 19\, 2020 \nJoin the Zoom Education/Conservation Meeting (Phone) – August 19\, 2020 \n“Raise Your Hand” to make public comment \nDownload the Zoom application for instructions to join the meeting using a computer or tablet
URL:https://brazosvalleygcd.org/event/education-conservation-committee-meeting-august-19-2020-virtual/
LOCATION:Zoom Virtual Committee Meeting
ORGANIZER;CN="Brazos Valley Groundwater Conservation District":MAILTO:clopez@brazosvalleygcd.org
END:VEVENT
END:VCALENDAR